BEGIN:VCALENDAR
VERSION:2.0
PRODID:-//Contratero//ES
CALSCALE:GREGORIAN
METHOD:PUBLISH
BEGIN:VEVENT
UID:SUM-35/24 OTT@contratero.es
DTSTAMP:20260422T233425Z
DTSTART:20241127T235959
DTEND:20241128T005959
SUMMARY:Cierre: Suministro para la adquisición de licencias académ
DESCRIPTION:Suministro para la adquisición de licencias académicas del programa ABAQUS RESEARCH para la Escuela Técnica Superior de Ingenieros de Caminos\, Canales y Puertos de la Universidad Politécnica de Madrid\\n\\nOrganismo: Rectorado de la Universidad Politécnica de Madrid\\n\\nVer en Contratero: https://contratero.es/contracts/SUM-35/24 OTT
URL:https://contratero.es/contracts/SUM-35/24 OTT
STATUS:CONFIRMED
BEGIN:VALARM
TRIGGER:-P1D
ACTION:DISPLAY
DESCRIPTION:Recordatorio: Suministro para la adquisición
END:VALARM
END:VEVENT
END:VCALENDAR